BEGIN:VCALENDAR
VERSION:2.0
PRODID:Festa de Halloween
X-WR-CALNAME:Festa de Halloween
X-WR-TIMEZONE:Europe/Lisbon
X-PUBLISHED-TTL:P1W
BEGIN:VTIMEZONE
TZID:Europe/Lisbon
X-LIC-LOCATION:Europe/Lisbon
END:VTIMEZONE
BEGIN:VEVENT
UID:69e4e64292e03
DTSTART;VALUE=DATE:20251031
SEQUENCE:0
TRANSP:OPAQUE
DTEND;VALUE=DATE:20251101
SUMMARY:Festa de Halloween
CLASS:PUBLIC
DESCRIPTION:Festa de Halloween.
X-MICROSOFT-CDO-ALLDAYEVENT:TRUE
DTSTAMP:20260419T142714Z
END:VEVENT
END:VCALENDAR