BEGIN:VCALENDAR
VERSION:2.0
PRODID:Festa Natal para as Crianças da Freguesia de Tadim + EB1
X-WR-CALNAME:Festa Natal para as Crianças da Freguesia de Tadim + EB1
X-WR-TIMEZONE:Europe/Lisbon
X-PUBLISHED-TTL:P1W
BEGIN:VTIMEZONE
TZID:Europe/Lisbon
X-LIC-LOCATION:Europe/Lisbon
END:VTIMEZONE
BEGIN:VEVENT
UID:69e4e7f533937
DTSTART;VALUE=DATE:20251220
SEQUENCE:0
TRANSP:OPAQUE
DTEND;VALUE=DATE:20251221
SUMMARY:Festa Natal para as Crianças da Freguesia de Tadim + EB1
CLASS:PUBLIC
DESCRIPTION:Festa de Natal 20 de dezembro10:30Pavilhão da Freguesia  Vem 
 viver a magia do Natal! Haverá muita diversão\, música\, surpresas e um
 a visita especial do Pai Natal! Não faltes — traz o teu espírito natal
 ício e um grande sorriso! 
X-MICROSOFT-CDO-ALLDAYEVENT:TRUE
DTSTAMP:20260419T143429Z
END:VEVENT
END:VCALENDAR