BEGIN:VCALENDAR
VERSION:2.0
PRODID:Magusto da Freguesia
X-WR-CALNAME:Magusto da Freguesia
X-WR-TIMEZONE:Europe/Lisbon
X-PUBLISHED-TTL:P1W
BEGIN:VTIMEZONE
TZID:Europe/Lisbon
X-LIC-LOCATION:Europe/Lisbon
END:VTIMEZONE
BEGIN:VEVENT
UID:69e4e792989d2
DTSTART;VALUE=DATE:20251115
SEQUENCE:0
TRANSP:OPAQUE
DTEND;VALUE=DATE:20251116
SUMMARY:Magusto da Freguesia
CLASS:PUBLIC
DESCRIPTION:Magusto da Freguesia de TadimLargo de S. BartolomeuSábado às 
 16:00 Haverá animação\, castanhas assadas e caldo verde bem quentinho. 
 Traz a tua boa disposição e junta-te à festa!
X-MICROSOFT-CDO-ALLDAYEVENT:TRUE
DTSTAMP:20260419T143250Z
END:VEVENT
END:VCALENDAR