BEGIN:VCALENDAR
VERSION:2.0
PRODID:Visita de Natal à População
X-WR-CALNAME:Visita de Natal à População
X-WR-TIMEZONE:Europe/Lisbon
X-PUBLISHED-TTL:P1W
BEGIN:VTIMEZONE
TZID:Europe/Lisbon
X-LIC-LOCATION:Europe/Lisbon
END:VTIMEZONE
BEGIN:VEVENT
UID:69e4e78d444b0
DTSTART;VALUE=DATE:20251213
SEQUENCE:0
TRANSP:OPAQUE
DTEND;VALUE=DATE:20251214
SUMMARY:Visita de Natal à População
CLASS:PUBLIC
DESCRIPTION:Visita de Natal à População – 13 de Dezembro&nbsp\;Neste N
 atal\, o Executivo e a sua equipa irão ao encontro da população\, levan
 do uma mensagem de votos de um Natal cheio de paz e alegria.No dia 13 de d
 ezembro\, o Executivo realizará a tradicional Visita de Natal porta a por
 ta&nbsp\;&nbsp\;para mais um momento de contacto.Data: 13 de dezembroHorá
 rio: Todo o DiaQue este Natal seja vivido com esperança\, saúde e partil
 ha entre todos!      Feliz Natal e um Próspero Ano Novo! O Executivo Da J
 unta
X-MICROSOFT-CDO-ALLDAYEVENT:TRUE
DTSTAMP:20260419T143245Z
END:VEVENT
END:VCALENDAR