BEGIN:VCALENDAR
VERSION:2.0
PRODID:Almoço de Natal para Séniores 2025
X-WR-CALNAME:Almoço de Natal para Séniores 2025
X-WR-TIMEZONE:Europe/Lisbon
X-PUBLISHED-TTL:P1W
BEGIN:VTIMEZONE
TZID:Europe/Lisbon
X-LIC-LOCATION:Europe/Lisbon
END:VTIMEZONE
BEGIN:VEVENT
UID:69e4e6d3b9b8a
DTSTART;VALUE=DATE:20251206
SEQUENCE:0
TRANSP:OPAQUE
DTEND;VALUE=DATE:20251207
SUMMARY:Almoço de Natal para Séniores 2025
CLASS:PUBLIC
DESCRIPTION:Almoço de Natal para Séniores6 de dezembro11:00Casa do Povo d
 e Tadim  Venha celebrar o espírito natalício em boa companhia\, com&nbsp
 \;amizade\, boa comida e alegria. Participe neste momento de convívio e p
 artilha — porque o Natal é feito de pessoas!&nbsp\;
X-MICROSOFT-CDO-ALLDAYEVENT:TRUE
DTSTAMP:20260419T142939Z
END:VEVENT
END:VCALENDAR