BEGIN:VCALENDAR
VERSION:2.0
PRODID:Almoço de Natal Sénior 2023
X-WR-CALNAME:Almoço de Natal Sénior 2023
X-WR-TIMEZONE:Europe/Lisbon
X-PUBLISHED-TTL:P1W
BEGIN:VTIMEZONE
TZID:Europe/Lisbon
X-LIC-LOCATION:Europe/Lisbon
END:VTIMEZONE
BEGIN:VEVENT
UID:69e9f54e664e9
DTSTART;VALUE=DATE:20231202
SEQUENCE:0
TRANSP:OPAQUE
DTEND;VALUE=DATE:20231203
SUMMARY:Almoço de Natal Sénior 2023
CLASS:PUBLIC
DESCRIPTION:Almoço de natal para séniores.Dia 2 dezembro de 2023&nbsp\; n
 a casa do povo de TadimInscrições aqui:&nbsp\;https://forms.gle/SG8qVR4H
 geZZeMJ37
X-MICROSOFT-CDO-ALLDAYEVENT:TRUE
DTSTAMP:20260423T103246Z
END:VEVENT
END:VCALENDAR